BEGIN:VCALENDAR
VERSION:2.0
PRODID:-//Gran Casino Costa Brava - ECPv6.15.19//NONSGML v1.0//EN
CALSCALE:GREGORIAN
METHOD:PUBLISH
X-ORIGINAL-URL:https://gccb.com
X-WR-CALDESC:Eventos para Gran Casino Costa Brava
REFRESH-INTERVAL;VALUE=DURATION:PT1H
X-Robots-Tag:noindex
X-PUBLISHED-TTL:PT1H
BEGIN:VTIMEZONE
TZID:Europe/Madrid
BEGIN:DAYLIGHT
TZOFFSETFROM:+0100
TZOFFSETTO:+0200
TZNAME:CEST
DTSTART:20250330T010000
END:DAYLIGHT
BEGIN:STANDARD
TZOFFSETFROM:+0200
TZOFFSETTO:+0100
TZNAME:CET
DTSTART:20251026T010000
END:STANDARD
BEGIN:DAYLIGHT
TZOFFSETFROM:+0100
TZOFFSETTO:+0200
TZNAME:CEST
DTSTART:20260329T010000
END:DAYLIGHT
BEGIN:STANDARD
TZOFFSETFROM:+0200
TZOFFSETTO:+0100
TZNAME:CET
DTSTART:20261025T010000
END:STANDARD
BEGIN:DAYLIGHT
TZOFFSETFROM:+0100
TZOFFSETTO:+0200
TZNAME:CEST
DTSTART:20270328T010000
END:DAYLIGHT
BEGIN:STANDARD
TZOFFSETFROM:+0200
TZOFFSETTO:+0100
TZNAME:CET
DTSTART:20271031T010000
END:STANDARD
END:VTIMEZONE
BEGIN:VEVENT
DTSTART;TZID=Europe/Madrid:20260207T170000
DTEND;TZID=Europe/Madrid:20260207T233000
DTSTAMP:20260421T132845
CREATED:20251229T090849Z
LAST-MODIFIED:20260109T111810Z
UID:10005779-1770483600-1770507000@gccb.com
SUMMARY:EL MENSUAL 2026 - DÍA 1
DESCRIPTION:  \n 
URL:https://gccb.com/evento/el-mensual-2026-dia-1/2026-02-07/
LOCATION:Gran Casino Costa Brava\, Av. Vila de Tossa\, 27-43\, Lloret del Mar\, Girona\, 17310\, España
CATEGORIES:Poker
ATTACH;FMTTYPE=image/jpeg:https://gccb.com/wp-content/uploads/2025/12/RRSS_El_Mensual_2026-03-e1774772019931.jpg
END:VEVENT
BEGIN:VEVENT
DTSTART;TZID=Europe/Madrid:20260208T170000
DTEND;TZID=Europe/Madrid:20260208T233000
DTSTAMP:20260421T132845
CREATED:20251229T091055Z
LAST-MODIFIED:20260109T111940Z
UID:10005785-1770570000-1770593400@gccb.com
SUMMARY:EL MENSUAL 2026 - DÍA 2
DESCRIPTION:  \n 
URL:https://gccb.com/evento/el-mensual-2026-dia-2/2026-02-08/
LOCATION:Gran Casino Costa Brava\, Av. Vila de Tossa\, 27-43\, Lloret del Mar\, Girona\, 17310\, España
CATEGORIES:Poker
ATTACH;FMTTYPE=image/jpeg:https://gccb.com/wp-content/uploads/2025/12/RRSS_El_Mensual_2026-03-e1774772019931.jpg
END:VEVENT
BEGIN:VEVENT
DTSTART;TZID=Europe/Madrid:20260208T180000
DTEND;TZID=Europe/Madrid:20260208T233000
DTSTAMP:20260421T132845
CREATED:20251229T091741Z
LAST-MODIFIED:20260109T111923Z
UID:10005791-1770573600-1770593400@gccb.com
SUMMARY:EL DOMINICAL 2026
DESCRIPTION:  \n 
URL:https://gccb.com/evento/el-dominical-2026/2026-02-08/
LOCATION:Gran Casino Costa Brava\, Av. Vila de Tossa\, 27-43\, Lloret del Mar\, Girona\, 17310\, España
CATEGORIES:Poker
ATTACH;FMTTYPE=image/jpeg:https://gccb.com/wp-content/uploads/2025/12/RRSS_El_Mensual_2026-03-e1774772019931.jpg
END:VEVENT
END:VCALENDAR