BEGIN:VCALENDAR
VERSION:2.0
PRODID:-//Gran Casino Costa Brava - ECPv6.15.19//NONSGML v1.0//EN
CALSCALE:GREGORIAN
METHOD:PUBLISH
X-ORIGINAL-URL:https://gccb.com
X-WR-CALDESC:Eventos para Gran Casino Costa Brava
REFRESH-INTERVAL;VALUE=DURATION:PT1H
X-Robots-Tag:noindex
X-PUBLISHED-TTL:PT1H
BEGIN:VTIMEZONE
TZID:Europe/Madrid
BEGIN:DAYLIGHT
TZOFFSETFROM:+0100
TZOFFSETTO:+0200
TZNAME:CEST
DTSTART:20240331T010000
END:DAYLIGHT
BEGIN:STANDARD
TZOFFSETFROM:+0200
TZOFFSETTO:+0100
TZNAME:CET
DTSTART:20241027T010000
END:STANDARD
BEGIN:DAYLIGHT
TZOFFSETFROM:+0100
TZOFFSETTO:+0200
TZNAME:CEST
DTSTART:20250330T010000
END:DAYLIGHT
BEGIN:STANDARD
TZOFFSETFROM:+0200
TZOFFSETTO:+0100
TZNAME:CET
DTSTART:20251026T010000
END:STANDARD
BEGIN:DAYLIGHT
TZOFFSETFROM:+0100
TZOFFSETTO:+0200
TZNAME:CEST
DTSTART:20260329T010000
END:DAYLIGHT
BEGIN:STANDARD
TZOFFSETFROM:+0200
TZOFFSETTO:+0100
TZNAME:CET
DTSTART:20261025T010000
END:STANDARD
END:VTIMEZONE
BEGIN:VEVENT
DTSTART;TZID=Europe/Madrid:20251206T180000
DTEND;TZID=Europe/Madrid:20251206T233000
DTSTAMP:20260426T012842
CREATED:20251128T125332Z
LAST-MODIFIED:20251128T125332Z
UID:10005602-1765044000-1765063800@gccb.com
SUMMARY:THE CLUB
DESCRIPTION:Compra tu entrada aquí
URL:https://gccb.com/evento/the-club-3-2/
LOCATION:Gran Casino Costa Brava\, Av. Vila de Tossa\, 27-43\, Lloret del Mar\, Girona\, 17310\, España
CATEGORIES:Poker
ATTACH;FMTTYPE=image/jpeg:https://gccb.com/wp-content/uploads/2025/10/WhatsApp-Image-2025-10-31-at-12.57.01.jpeg
END:VEVENT
BEGIN:VEVENT
DTSTART;TZID=Europe/Madrid:20251207T170000
DTEND;TZID=Europe/Madrid:20251207T233000
DTSTAMP:20260426T012842
CREATED:20251128T125620Z
LAST-MODIFIED:20251128T125620Z
UID:10005598-1765126800-1765150200@gccb.com
SUMMARY:THE GAMBLER
DESCRIPTION:Compra tu entrada aquí
URL:https://gccb.com/evento/the-gambler-2/
LOCATION:Gran Casino Costa Brava\, Av. Vila de Tossa\, 27-43\, Lloret del Mar\, Girona\, 17310\, España
CATEGORIES:Poker
ATTACH;FMTTYPE=image/jpeg:https://gccb.com/wp-content/uploads/2025/11/THE-GAMBLER-45-e1763796571492.jpg
END:VEVENT
BEGIN:VEVENT
DTSTART;TZID=Europe/Madrid:20251221T170000
DTEND;TZID=Europe/Madrid:20251221T233000
DTSTAMP:20260426T012842
CREATED:20251217T154425Z
LAST-MODIFIED:20251217T220719Z
UID:10005599-1766336400-1766359800@gccb.com
SUMMARY:EL DOMINICAL BOUNTY
DESCRIPTION:Compra tu entrada aquí
URL:https://gccb.com/evento/bounty/
LOCATION:Gran Casino Costa Brava\, Av. Vila de Tossa\, 27-43\, Lloret del Mar\, Girona\, 17310\, España
CATEGORIES:Poker
ATTACH;FMTTYPE=image/jpeg:https://gccb.com/wp-content/uploads/2025/03/DOMINICAL-BOUNTY-OK-1-e1744954573503.jpg
END:VEVENT
BEGIN:VEVENT
DTSTART;TZID=Europe/Madrid:20251226T180000
DTEND;TZID=Europe/Madrid:20251226T233000
DTSTAMP:20260426T012842
CREATED:20251124T112640Z
LAST-MODIFIED:20251124T112640Z
UID:10005605-1766772000-1766791800@gccb.com
SUMMARY:THE WEEKEND
DESCRIPTION:Compra tu entrada aquí
URL:https://gccb.com/evento/the-weekend-3/
LOCATION:Gran Casino Costa Brava\, Av. Vila de Tossa\, 27-43\, Lloret del Mar\, Girona\, 17310\, España
CATEGORIES:Poker
ATTACH;FMTTYPE=image/jpeg:https://gccb.com/wp-content/uploads/2025/03/WEEKEND-OK-e1758887765927.jpg
END:VEVENT
BEGIN:VEVENT
DTSTART;TZID=Europe/Madrid:20251227T180000
DTEND;TZID=Europe/Madrid:20251227T233000
DTSTAMP:20260426T012842
CREATED:20251124T112318Z
LAST-MODIFIED:20251217T221013Z
UID:10005604-1766858400-1766878200@gccb.com
SUMMARY:THE CLUB
DESCRIPTION:Compra tu entrada aquí
URL:https://gccb.com/evento/the-club-3/2025-12-27/
LOCATION:Gran Casino Costa Brava\, Av. Vila de Tossa\, 27-43\, Lloret del Mar\, Girona\, 17310\, España
CATEGORIES:Poker
ATTACH;FMTTYPE=image/jpeg:https://gccb.com/wp-content/uploads/2025/03/CLUB_OK-e1758887460493.jpg
END:VEVENT
END:VCALENDAR