BEGIN:VCALENDAR
VERSION:2.0
PRODID:-//Gran Casino Costa Brava - ECPv6.15.19//NONSGML v1.0//EN
CALSCALE:GREGORIAN
METHOD:PUBLISH
X-ORIGINAL-URL:https://gccb.com
X-WR-CALDESC:Eventos para Gran Casino Costa Brava
REFRESH-INTERVAL;VALUE=DURATION:PT1H
X-Robots-Tag:noindex
X-PUBLISHED-TTL:PT1H
BEGIN:VTIMEZONE
TZID:Europe/Madrid
BEGIN:DAYLIGHT
TZOFFSETFROM:+0100
TZOFFSETTO:+0200
TZNAME:CEST
DTSTART:20250330T010000
END:DAYLIGHT
BEGIN:STANDARD
TZOFFSETFROM:+0200
TZOFFSETTO:+0100
TZNAME:CET
DTSTART:20251026T010000
END:STANDARD
BEGIN:DAYLIGHT
TZOFFSETFROM:+0100
TZOFFSETTO:+0200
TZNAME:CEST
DTSTART:20260329T010000
END:DAYLIGHT
BEGIN:STANDARD
TZOFFSETFROM:+0200
TZOFFSETTO:+0100
TZNAME:CET
DTSTART:20261025T010000
END:STANDARD
BEGIN:DAYLIGHT
TZOFFSETFROM:+0100
TZOFFSETTO:+0200
TZNAME:CEST
DTSTART:20270328T010000
END:DAYLIGHT
BEGIN:STANDARD
TZOFFSETFROM:+0200
TZOFFSETTO:+0100
TZNAME:CET
DTSTART:20271031T010000
END:STANDARD
END:VTIMEZONE
BEGIN:VEVENT
DTSTART;TZID=Europe/Madrid:20260306T200000
DTEND;TZID=Europe/Madrid:20260306T233000
DTSTAMP:20260426T004346
CREATED:20260301T073348Z
LAST-MODIFIED:20260301T073632Z
UID:10006293-1772827200-1772839800@gccb.com
SUMMARY:MENÚ DEL CHEF MARZO
DESCRIPTION:Reserva tu mesa aquí
URL:https://gccb.com/evento/menu-del-chef-marzo/2026-03-06/
CATEGORIES:Restauración,Shows
ATTACH;FMTTYPE=image/png:https://gccb.com/wp-content/uploads/2026/02/Menu-marzo_1.png
END:VEVENT
BEGIN:VEVENT
DTSTART;TZID=Europe/Madrid:20260307T200000
DTEND;TZID=Europe/Madrid:20260307T233000
DTSTAMP:20260426T004346
CREATED:20260301T073348Z
LAST-MODIFIED:20260301T073632Z
UID:10006294-1772913600-1772926200@gccb.com
SUMMARY:MENÚ DEL CHEF MARZO
DESCRIPTION:Reserva tu mesa aquí
URL:https://gccb.com/evento/menu-del-chef-marzo/2026-03-07/
CATEGORIES:Restauración,Shows
ATTACH;FMTTYPE=image/png:https://gccb.com/wp-content/uploads/2026/02/Menu-marzo_1.png
END:VEVENT
BEGIN:VEVENT
DTSTART;VALUE=DATE:20260308
DTEND;VALUE=DATE:20260309
DTSTAMP:20260426T004346
CREATED:20260301T091400Z
LAST-MODIFIED:20260301T091531Z
UID:10006309-1772928000-1773014399@gccb.com
SUMMARY:第8天
DESCRIPTION:
URL:https://gccb.com/evento/%e7%ac%ac8%e5%a4%a9-2/
LOCATION:Gran Casino Costa Brava\, Av. Vila de Tossa\, 27-43\, Lloret del Mar\, Girona\, 17310\, España
CATEGORIES:CWC,Shows
ATTACH;FMTTYPE=image/jpeg:https://gccb.com/wp-content/uploads/2026/02/08_Casino-Costa-Brava_B8-de-la-suerte_IG-Post-1080X1080-Mar26.jpeg
END:VEVENT
BEGIN:VEVENT
DTSTART;VALUE=DATE:20260308
DTEND;VALUE=DATE:20260309
DTSTAMP:20260426T004346
CREATED:20260301T092023Z
LAST-MODIFIED:20260301T092458Z
UID:10006310-1772928000-1773014399@gccb.com
SUMMARY:PROMO DÍA DE LA MUJER
DESCRIPTION:Consulta condiciones a nuestro personal.
URL:https://gccb.com/evento/dia-mujer/
CATEGORIES:CWC
ATTACH;FMTTYPE=image/jpeg:https://gccb.com/wp-content/uploads/2026/02/08_Casino-Costa-Brava_Dia-de-la-mujer-Promo_CW_IG-Post-1080X1080.jpeg
END:VEVENT
BEGIN:VEVENT
DTSTART;VALUE=DATE:20260308
DTEND;VALUE=DATE:20260309
DTSTAMP:20260426T004346
CREATED:20260301T092319Z
LAST-MODIFIED:20260301T112329Z
UID:10006311-1772928000-1773014399@gccb.com
SUMMARY:DÍA DE LA MUJER
DESCRIPTION:
URL:https://gccb.com/evento/dia-de-la-mujer-2/
CATEGORIES:CWC
ATTACH;FMTTYPE=image/jpeg:https://gccb.com/wp-content/uploads/2026/02/08_Casino-Costa-Brava_Dia-de-la-mujer_CW_IG-Post-1080X1080.jpeg
END:VEVENT
BEGIN:VEVENT
DTSTART;VALUE=DATE:20260311
DTEND;VALUE=DATE:20260312
DTSTAMP:20260426T004346
CREATED:20260301T092952Z
LAST-MODIFIED:20260301T092952Z
UID:10006312-1773187200-1773273599@gccb.com
SUMMARY:SWEET CLUB MARZO
DESCRIPTION:
URL:https://gccb.com/evento/sweet-club-marzo/
CATEGORIES:CWC,Shows
ATTACH;FMTTYPE=image/jpeg:https://gccb.com/wp-content/uploads/2026/02/11_Casino-Costa-Brava_Sweet-Club_CW_IG-Post-1080x1080-FEB26.jpeg
END:VEVENT
BEGIN:VEVENT
DTSTART;TZID=Europe/Madrid:20260311T100000
DTEND;TZID=Europe/Madrid:20260311T190000
DTSTAMP:20260426T004346
CREATED:20260216T183526Z
LAST-MODIFIED:20260301T101116Z
UID:10005917-1773223200-1773255600@gccb.com
SUMMARY:FIRA D'HOSTELERIA
DESCRIPTION:
URL:https://gccb.com/evento/fira-dhosteleria/2026-03-11/
CATEGORIES:Restauración,Shows
ATTACH;FMTTYPE=image/jpeg:https://gccb.com/wp-content/uploads/2026/02/WhatsApp-Image-2026-02-16-at-19.29.22.jpeg
END:VEVENT
BEGIN:VEVENT
DTSTART;TZID=Europe/Madrid:20260312T100000
DTEND;TZID=Europe/Madrid:20260312T190000
DTSTAMP:20260426T004346
CREATED:20260216T183526Z
LAST-MODIFIED:20260301T101116Z
UID:10005918-1773309600-1773342000@gccb.com
SUMMARY:FIRA D'HOSTELERIA
DESCRIPTION:
URL:https://gccb.com/evento/fira-dhosteleria/2026-03-12/
CATEGORIES:Restauración,Shows
ATTACH;FMTTYPE=image/jpeg:https://gccb.com/wp-content/uploads/2026/02/WhatsApp-Image-2026-02-16-at-19.29.22.jpeg
END:VEVENT
BEGIN:VEVENT
DTSTART;TZID=Europe/Madrid:20260313T180000
DTEND;TZID=Europe/Madrid:20260313T233000
DTSTAMP:20260426T004346
CREATED:20251229T094924Z
LAST-MODIFIED:20260102T191750Z
UID:10005805-1773424800-1773444600@gccb.com
SUMMARY:DOS VIDAS 2026
DESCRIPTION:Día: Viernes \nHora: 18:00h \nBuyin: 100€ \nPuntos iniciales: 20.000 \nNiveles de registro: 10 \nNiveles: 20/15 minutos desde el nivel 13 \n5.000 puntos por puntualidad (primer nivel) \nUsa la 2ª vida como complemento a tu stack\, como reentrada o como add-on.
URL:https://gccb.com/evento/dos-vidas-2026/2026-03-13/
LOCATION:Gran Casino Costa Brava\, Av. Vila de Tossa\, 27-43\, Lloret del Mar\, Girona\, 17310\, España
CATEGORIES:Poker
ATTACH;FMTTYPE=image/jpeg:https://gccb.com/wp-content/uploads/2025/12/Torneos_GCCB_2026-03-e1767381454249.jpg
END:VEVENT
BEGIN:VEVENT
DTSTART;TZID=Europe/Madrid:20260313T200000
DTEND;TZID=Europe/Madrid:20260313T233000
DTSTAMP:20260426T004346
CREATED:20260301T073348Z
LAST-MODIFIED:20260301T073632Z
UID:10006295-1773432000-1773444600@gccb.com
SUMMARY:MENÚ DEL CHEF MARZO
DESCRIPTION:Reserva tu mesa aquí
URL:https://gccb.com/evento/menu-del-chef-marzo/2026-03-13/
CATEGORIES:Restauración,Shows
ATTACH;FMTTYPE=image/png:https://gccb.com/wp-content/uploads/2026/02/Menu-marzo_1.png
END:VEVENT
BEGIN:VEVENT
DTSTART;TZID=Europe/Madrid:20260314T180000
DTEND;TZID=Europe/Madrid:20260314T233000
DTSTAMP:20260426T004346
CREATED:20251229T081143Z
LAST-MODIFIED:20251229T090113Z
UID:10005763-1773511200-1773531000@gccb.com
SUMMARY:THE CLUB 2026
DESCRIPTION:Día: Sábado \nHora: 18:00h \nBuyin: 100€ \nPuntos iniciales: 30.000 \nNiveles de registro: 10 \nNiveles: 20/15 minutos desde el nivel 13 \nEntrada a El Mensual para el ganador \n5.000 puntos por puntualidad (primer nivel)
URL:https://gccb.com/evento/the-club-2026/2026-03-14/
LOCATION:Gran Casino Costa Brava\, Av. Vila de Tossa\, 27-43\, Lloret del Mar\, Girona\, 17310\, España
CATEGORIES:Poker
ATTACH;FMTTYPE=image/jpeg:https://gccb.com/wp-content/uploads/2025/12/Torneos_GCCB_2026-03-e1767381454249.jpg
END:VEVENT
BEGIN:VEVENT
DTSTART;TZID=Europe/Madrid:20260314T200000
DTEND;TZID=Europe/Madrid:20260314T233000
DTSTAMP:20260426T004346
CREATED:20260301T073348Z
LAST-MODIFIED:20260301T073632Z
UID:10006296-1773518400-1773531000@gccb.com
SUMMARY:MENÚ DEL CHEF MARZO
DESCRIPTION:Reserva tu mesa aquí
URL:https://gccb.com/evento/menu-del-chef-marzo/2026-03-14/
CATEGORIES:Restauración,Shows
ATTACH;FMTTYPE=image/png:https://gccb.com/wp-content/uploads/2026/02/Menu-marzo_1.png
END:VEVENT
BEGIN:VEVENT
DTSTART;TZID=Europe/Madrid:20260319T220000
DTEND;TZID=Europe/Madrid:20260319T233000
DTSTAMP:20260426T004346
CREATED:20240315T100340Z
LAST-MODIFIED:20260301T094854Z
UID:10003070-1773957600-1773963000@gccb.com
SUMMARY:DÍA DEL PADRE
DESCRIPTION:
URL:https://gccb.com/evento/dia-del-padre/
LOCATION:Gran Casino Costa Brava\, Av. Vila de Tossa\, 27-43\, Lloret del Mar\, Girona\, 17310\, España
CATEGORIES:CWC,Shows
ATTACH;FMTTYPE=image/jpeg:https://gccb.com/wp-content/uploads/2026/02/19_Casino-Costa-Brava_Dia-del-padre_CW_IG-Post-1080X1080.jpeg
END:VEVENT
BEGIN:VEVENT
DTSTART;VALUE=DATE:20260320
DTEND;VALUE=DATE:20260328
DTSTAMP:20260426T004346
CREATED:20250411T082638Z
LAST-MODIFIED:20260329T081658Z
UID:10004664-1773964800-1774655999@gccb.com
SUMMARY:PROMO PASCUA
DESCRIPTION:
URL:https://gccb.com/evento/promo-pascua/
LOCATION:Gran Casino Costa Brava\, Av. Vila de Tossa\, 27-43\, Lloret del Mar\, Girona\, 17310\, España
CATEGORIES:CWC
ATTACH;FMTTYPE=image/jpeg:https://gccb.com/wp-content/uploads/2026/02/20_27_28_Casino-Costa-Brava_Sorteo-de-Pascua_CW_IG-Post-1080X1080-e1774772209766.jpeg
END:VEVENT
BEGIN:VEVENT
DTSTART;TZID=Europe/Madrid:20260320T200000
DTEND;TZID=Europe/Madrid:20260320T233000
DTSTAMP:20260426T004346
CREATED:20260301T073348Z
LAST-MODIFIED:20260301T073632Z
UID:10006297-1774036800-1774049400@gccb.com
SUMMARY:MENÚ DEL CHEF MARZO
DESCRIPTION:Reserva tu mesa aquí
URL:https://gccb.com/evento/menu-del-chef-marzo/2026-03-20/
CATEGORIES:Restauración,Shows
ATTACH;FMTTYPE=image/png:https://gccb.com/wp-content/uploads/2026/02/Menu-marzo_1.png
END:VEVENT
BEGIN:VEVENT
DTSTART;TZID=Europe/Madrid:20260321T180000
DTEND;TZID=Europe/Madrid:20260321T233000
DTSTAMP:20260426T004346
CREATED:20251229T081143Z
LAST-MODIFIED:20251229T090113Z
UID:10005764-1774116000-1774135800@gccb.com
SUMMARY:THE CLUB 2026
DESCRIPTION:Día: Sábado \nHora: 18:00h \nBuyin: 100€ \nPuntos iniciales: 30.000 \nNiveles de registro: 10 \nNiveles: 20/15 minutos desde el nivel 13 \nEntrada a El Mensual para el ganador \n5.000 puntos por puntualidad (primer nivel)
URL:https://gccb.com/evento/the-club-2026/2026-03-21/
LOCATION:Gran Casino Costa Brava\, Av. Vila de Tossa\, 27-43\, Lloret del Mar\, Girona\, 17310\, España
CATEGORIES:Poker
ATTACH;FMTTYPE=image/jpeg:https://gccb.com/wp-content/uploads/2025/12/Torneos_GCCB_2026-03-e1767381454249.jpg
END:VEVENT
BEGIN:VEVENT
DTSTART;TZID=Europe/Madrid:20260321T200000
DTEND;TZID=Europe/Madrid:20260321T233000
DTSTAMP:20260426T004346
CREATED:20260301T073348Z
LAST-MODIFIED:20260301T073632Z
UID:10006298-1774123200-1774135800@gccb.com
SUMMARY:MENÚ DEL CHEF MARZO
DESCRIPTION:Reserva tu mesa aquí
URL:https://gccb.com/evento/menu-del-chef-marzo/2026-03-21/
CATEGORIES:Restauración,Shows
ATTACH;FMTTYPE=image/png:https://gccb.com/wp-content/uploads/2026/02/Menu-marzo_1.png
END:VEVENT
BEGIN:VEVENT
DTSTART;TZID=Europe/Madrid:20260322T180000
DTEND;TZID=Europe/Madrid:20260322T233000
DTSTAMP:20260426T004346
CREATED:20251229T094304Z
LAST-MODIFIED:20251229T094943Z
UID:10005799-1774202400-1774222200@gccb.com
SUMMARY:THE GAMBLER 2026
DESCRIPTION:Día: Domingo \nHora: 18:00h \nBuyin: 80€ \nPuntos iniciales: 20.000 \nAdd-on simple: 20€ – 15.000 puntos \nAdd-on doble: 40€ – 30.000 puntos \nNiveles de registro: 10 \nNiveles: 20/15 minutos desde el nivel 13 \n5.000 puntos por puntualidad (primer nivel) \nEl add-on se realizará al finalizar el período de registro.
URL:https://gccb.com/evento/the-gambler-2026/2026-03-22/
LOCATION:Gran Casino Costa Brava\, Av. Vila de Tossa\, 27-43\, Lloret del Mar\, Girona\, 17310\, España
CATEGORIES:Poker
ATTACH;FMTTYPE=image/jpeg:https://gccb.com/wp-content/uploads/2025/12/Torneos_GCCB_2026-03-e1767381454249.jpg
END:VEVENT
BEGIN:VEVENT
DTSTART;TZID=Europe/Madrid:20260327T180000
DTEND;TZID=Europe/Madrid:20260327T233000
DTSTAMP:20260426T004346
CREATED:20251229T094924Z
LAST-MODIFIED:20260102T191750Z
UID:10005806-1774634400-1774654200@gccb.com
SUMMARY:DOS VIDAS 2026
DESCRIPTION:Día: Viernes \nHora: 18:00h \nBuyin: 100€ \nPuntos iniciales: 20.000 \nNiveles de registro: 10 \nNiveles: 20/15 minutos desde el nivel 13 \n5.000 puntos por puntualidad (primer nivel) \nUsa la 2ª vida como complemento a tu stack\, como reentrada o como add-on.
URL:https://gccb.com/evento/dos-vidas-2026/2026-03-27/
LOCATION:Gran Casino Costa Brava\, Av. Vila de Tossa\, 27-43\, Lloret del Mar\, Girona\, 17310\, España
CATEGORIES:Poker
ATTACH;FMTTYPE=image/jpeg:https://gccb.com/wp-content/uploads/2025/12/Torneos_GCCB_2026-03-e1767381454249.jpg
END:VEVENT
BEGIN:VEVENT
DTSTART;TZID=Europe/Madrid:20260327T200000
DTEND;TZID=Europe/Madrid:20260327T233000
DTSTAMP:20260426T004346
CREATED:20260301T073348Z
LAST-MODIFIED:20260301T073632Z
UID:10006299-1774641600-1774654200@gccb.com
SUMMARY:MENÚ DEL CHEF MARZO
DESCRIPTION:Reserva tu mesa aquí
URL:https://gccb.com/evento/menu-del-chef-marzo/2026-03-27/
CATEGORIES:Restauración,Shows
ATTACH;FMTTYPE=image/png:https://gccb.com/wp-content/uploads/2026/02/Menu-marzo_1.png
END:VEVENT
BEGIN:VEVENT
DTSTART;TZID=Europe/Madrid:20260328T180000
DTEND;TZID=Europe/Madrid:20260328T233000
DTSTAMP:20260426T004346
CREATED:20251229T081143Z
LAST-MODIFIED:20251229T090113Z
UID:10005765-1774720800-1774740600@gccb.com
SUMMARY:THE CLUB 2026
DESCRIPTION:Día: Sábado \nHora: 18:00h \nBuyin: 100€ \nPuntos iniciales: 30.000 \nNiveles de registro: 10 \nNiveles: 20/15 minutos desde el nivel 13 \nEntrada a El Mensual para el ganador \n5.000 puntos por puntualidad (primer nivel)
URL:https://gccb.com/evento/the-club-2026/2026-03-28/
LOCATION:Gran Casino Costa Brava\, Av. Vila de Tossa\, 27-43\, Lloret del Mar\, Girona\, 17310\, España
CATEGORIES:Poker
ATTACH;FMTTYPE=image/jpeg:https://gccb.com/wp-content/uploads/2025/12/Torneos_GCCB_2026-03-e1767381454249.jpg
END:VEVENT
BEGIN:VEVENT
DTSTART;TZID=Europe/Madrid:20260328T200000
DTEND;TZID=Europe/Madrid:20260328T233000
DTSTAMP:20260426T004346
CREATED:20260301T073348Z
LAST-MODIFIED:20260301T073632Z
UID:10006300-1774728000-1774740600@gccb.com
SUMMARY:MENÚ DEL CHEF MARZO
DESCRIPTION:Reserva tu mesa aquí
URL:https://gccb.com/evento/menu-del-chef-marzo/2026-03-28/
CATEGORIES:Restauración,Shows
ATTACH;FMTTYPE=image/png:https://gccb.com/wp-content/uploads/2026/02/Menu-marzo_1.png
END:VEVENT
BEGIN:VEVENT
DTSTART;TZID=Europe/Madrid:20260328T200000
DTEND;TZID=Europe/Madrid:20260328T235900
DTSTAMP:20260426T004346
CREATED:20250411T082913Z
LAST-MODIFIED:20260301T095555Z
UID:10004665-1774728000-1774742340@gccb.com
SUMMARY:PROMO PASCUA
DESCRIPTION:
URL:https://gccb.com/evento/promo-pascua-2/
LOCATION:Gran Casino Costa Brava\, Av. Vila de Tossa\, 27-43\, Lloret del Mar\, Girona\, 17310\, España
ATTACH;FMTTYPE=image/jpeg:https://gccb.com/wp-content/uploads/2026/02/20_27_28_Casino-Costa-Brava_Sorteo-de-Pascua_CW_IG-Post-1080X1080-e1774772209766.jpeg
END:VEVENT
BEGIN:VEVENT
DTSTART;VALUE=DATE:20260401
DTEND;VALUE=DATE:20260406
DTSTAMP:20260426T004346
CREATED:20260329T084650Z
LAST-MODIFIED:20260329T084749Z
UID:10006319-1775001600-1775433599@gccb.com
SUMMARY:BONUS ABRIL_1
DESCRIPTION:
URL:https://gccb.com/evento/bonus-abril_1/
LOCATION:Gran Casino Costa Brava\, Av. Vila de Tossa\, 27-43\, Lloret del Mar\, Girona\, 17310\, España
CATEGORIES:CWC
ATTACH;FMTTYPE=image/jpeg:https://gccb.com/wp-content/uploads/2026/03/Casino-Costa-Brava_Bonus-Abril_CW_Sem1_IG-POST-1080x1080-v2-e1774773883130.jpeg
END:VEVENT
BEGIN:VEVENT
DTSTART;TZID=Europe/Madrid:20260403T200000
DTEND;TZID=Europe/Madrid:20260403T233000
DTSTAMP:20260426T004346
CREATED:20260329T092043Z
LAST-MODIFIED:20260410T085351Z
UID:10006326-1775246400-1775259000@gccb.com
SUMMARY:MENÚ DEL CHEF ABRIL
DESCRIPTION:
URL:https://gccb.com/evento/menu-chef-abril/2026-04-03/
LOCATION:Gran Casino Costa Brava\, Av. Vila de Tossa\, 27-43\, Lloret del Mar\, Girona\, 17310\, España
CATEGORIES:Restauración,Shows
ATTACH;FMTTYPE=image/jpeg:https://gccb.com/wp-content/uploads/2026/03/Casino-Costa-Brava_Menu-ChefIG-Post-1080X1080-e1775457314191.jpeg
END:VEVENT
BEGIN:VEVENT
DTSTART;TZID=Europe/Madrid:20260404T170000
DTEND;TZID=Europe/Madrid:20260404T233000
DTSTAMP:20260426T004346
CREATED:20260323T173829Z
LAST-MODIFIED:20260323T174043Z
UID:10005780-1775322000-1775345400@gccb.com
SUMMARY:EL MENSUAL 2026 - DÍA 1
DESCRIPTION:  \n 
URL:https://gccb.com/evento/el-mensual-2026-dia-1-2/
LOCATION:Gran Casino Costa Brava\, Av. Vila de Tossa\, 27-43\, Lloret del Mar\, Girona\, 17310\, España
CATEGORIES:Poker
ATTACH;FMTTYPE=image/jpeg:https://gccb.com/wp-content/uploads/2026/01/EL-MENSUAL-OK-e1774771921255.jpeg
END:VEVENT
BEGIN:VEVENT
DTSTART;TZID=Europe/Madrid:20260404T200000
DTEND;TZID=Europe/Madrid:20260404T233000
DTSTAMP:20260426T004346
CREATED:20260329T092043Z
LAST-MODIFIED:20260410T085351Z
UID:10006327-1775332800-1775345400@gccb.com
SUMMARY:MENÚ DEL CHEF ABRIL
DESCRIPTION:
URL:https://gccb.com/evento/menu-chef-abril/2026-04-04/
LOCATION:Gran Casino Costa Brava\, Av. Vila de Tossa\, 27-43\, Lloret del Mar\, Girona\, 17310\, España
CATEGORIES:Restauración,Shows
ATTACH;FMTTYPE=image/jpeg:https://gccb.com/wp-content/uploads/2026/03/Casino-Costa-Brava_Menu-ChefIG-Post-1080X1080-e1775457314191.jpeg
END:VEVENT
BEGIN:VEVENT
DTSTART;TZID=Europe/Madrid:20260405T170000
DTEND;TZID=Europe/Madrid:20260405T233000
DTSTAMP:20260426T004346
CREATED:20260323T174750Z
LAST-MODIFIED:20260329T081400Z
UID:10005786-1775408400-1775431800@gccb.com
SUMMARY:EL MENSUAL 2026 - DÍA 2
DESCRIPTION:  \n 
URL:https://gccb.com/evento/el-mensual-2026-dia-2-2/
LOCATION:Gran Casino Costa Brava\, Av. Vila de Tossa\, 27-43\, Lloret del Mar\, Girona\, 17310\, España
CATEGORIES:Poker
ATTACH;FMTTYPE=image/jpeg:https://gccb.com/wp-content/uploads/2025/12/RRSS_El_Mensual_2026-03-e1774772019931.jpg
END:VEVENT
BEGIN:VEVENT
DTSTART;TZID=Europe/Madrid:20260405T180000
DTEND;TZID=Europe/Madrid:20260405T233000
DTSTAMP:20260426T004346
CREATED:20260323T175826Z
LAST-MODIFIED:20260329T081251Z
UID:10005792-1775412000-1775431800@gccb.com
SUMMARY:EL DOMINICAL 2026
DESCRIPTION:  \n 
URL:https://gccb.com/evento/el-dominical-2026-2/
LOCATION:Gran Casino Costa Brava\, Av. Vila de Tossa\, 27-43\, Lloret del Mar\, Girona\, 17310\, España
CATEGORIES:Poker
ATTACH;FMTTYPE=image/jpeg:https://gccb.com/wp-content/uploads/2026/01/EL-MENSUAL-OK-e1774771921255.jpeg
END:VEVENT
BEGIN:VEVENT
DTSTART;VALUE=DATE:20260408
DTEND;VALUE=DATE:20260409
DTSTAMP:20260426T004346
CREATED:20260329T084202Z
LAST-MODIFIED:20260329T085519Z
UID:10006318-1775606400-1775692799@gccb.com
SUMMARY:第8天
DESCRIPTION:
URL:https://gccb.com/evento/%e7%ac%ac8%e5%a4%a9-%e5%9b%9b%e6%9c%88/
LOCATION:Gran Casino Costa Brava\, Av. Vila de Tossa\, 27-43\, Lloret del Mar\, Girona\, 17310\, España
CATEGORIES:CWC,Restauración,Shows
ATTACH;FMTTYPE=image/jpeg:https://gccb.com/wp-content/uploads/2026/03/Casino-Costa-Brava_B8-de-la-suerte_IG-Post-1080X1080-Abr26-e1774773541864.jpeg
END:VEVENT
END:VCALENDAR