BEGIN:VCALENDAR
VERSION:2.0
PRODID:-//Gran Casino Costa Brava - ECPv6.15.19//NONSGML v1.0//EN
CALSCALE:GREGORIAN
METHOD:PUBLISH
X-ORIGINAL-URL:https://gccb.com
X-WR-CALDESC:Eventos para Gran Casino Costa Brava
REFRESH-INTERVAL;VALUE=DURATION:PT1H
X-Robots-Tag:noindex
X-PUBLISHED-TTL:PT1H
BEGIN:VTIMEZONE
TZID:Europe/Madrid
BEGIN:DAYLIGHT
TZOFFSETFROM:+0100
TZOFFSETTO:+0200
TZNAME:CEST
DTSTART:20250330T010000
END:DAYLIGHT
BEGIN:STANDARD
TZOFFSETFROM:+0200
TZOFFSETTO:+0100
TZNAME:CET
DTSTART:20251026T010000
END:STANDARD
BEGIN:DAYLIGHT
TZOFFSETFROM:+0100
TZOFFSETTO:+0200
TZNAME:CEST
DTSTART:20260329T010000
END:DAYLIGHT
BEGIN:STANDARD
TZOFFSETFROM:+0200
TZOFFSETTO:+0100
TZNAME:CET
DTSTART:20261025T010000
END:STANDARD
BEGIN:DAYLIGHT
TZOFFSETFROM:+0100
TZOFFSETTO:+0200
TZNAME:CEST
DTSTART:20270328T010000
END:DAYLIGHT
BEGIN:STANDARD
TZOFFSETFROM:+0200
TZOFFSETTO:+0100
TZNAME:CET
DTSTART:20271031T010000
END:STANDARD
END:VTIMEZONE
BEGIN:VEVENT
DTSTART;VALUE=DATE:20260420
DTEND;VALUE=DATE:20260427
DTSTAMP:20260420T221209
CREATED:20260329T085228Z
LAST-MODIFIED:20260329T085257Z
UID:10006321-1776643200-1777247999@gccb.com
SUMMARY:BONUS ABRIL_3
DESCRIPTION:
URL:https://gccb.com/evento/bonus-abril_3/
LOCATION:Gran Casino Costa Brava\, Av. Vila de Tossa\, 27-43\, Lloret del Mar\, Girona\, 17310\, España
CATEGORIES:CWC
ATTACH;FMTTYPE=image/jpeg:https://gccb.com/wp-content/uploads/2026/03/Casino-Costa-Brava_Bonus-Abril_CW_Sem3_IG-POST-1080x1080-v2.jpeg
END:VEVENT
BEGIN:VEVENT
DTSTART;TZID=Europe/Madrid:20260423T200000
DTEND;TZID=Europe/Madrid:20260423T233000
DTSTAMP:20260420T221209
CREATED:20260410T092509Z
LAST-MODIFIED:20260410T100410Z
UID:10006444-1776974400-1776987000@gccb.com
SUMMARY:CENA CON MISTERIO
DESCRIPTION:Reserva tu pase aquí \n 
URL:https://gccb.com/evento/cena-con-misterio/
LOCATION:Gran Casino Costa Brava\, Av. Vila de Tossa\, 27-43\, Lloret del Mar\, Girona\, 17310\, España
CATEGORIES:Restauración,Shows
ATTACH;FMTTYPE=image/jpeg:https://gccb.com/wp-content/uploads/2026/04/Casino-Costa-Brava_Cena-Con-Misterio_IG-Post-1080x1080-1-e1775813057269.jpeg
END:VEVENT
BEGIN:VEVENT
DTSTART;TZID=Europe/Madrid:20260424T200000
DTEND;TZID=Europe/Madrid:20260424T233000
DTSTAMP:20260420T221209
CREATED:20260406T063541Z
LAST-MODIFIED:20260410T085325Z
UID:10006332-1777060800-1777073400@gccb.com
SUMMARY:MENÚ DEL CHEF ABRIL
DESCRIPTION:
URL:https://gccb.com/evento/menu-chef-abril-2/2026-04-24/
LOCATION:Gran Casino Costa Brava\, Av. Vila de Tossa\, 27-43\, Lloret del Mar\, Girona\, 17310\, España
CATEGORIES:Restauración,Shows
ATTACH;FMTTYPE=image/jpeg:https://gccb.com/wp-content/uploads/2026/03/Casino-Costa-Brava_Menu-ChefIG-Post-1080X1080-e1775457314191.jpeg
END:VEVENT
BEGIN:VEVENT
DTSTART;TZID=Europe/Madrid:20260425T180000
DTEND;TZID=Europe/Madrid:20260425T233000
DTSTAMP:20260420T221209
CREATED:20260329T090802Z
LAST-MODIFIED:20260329T090821Z
UID:10006324-1777140000-1777159800@gccb.com
SUMMARY:THE CLUB
DESCRIPTION:Compra tu entrada aquí
URL:https://gccb.com/evento/the-club-abril-4/
LOCATION:Gran Casino Costa Brava\, Av. Vila de Tossa\, 27-43\, Lloret del Mar\, Girona\, 17310\, España
CATEGORIES:Poker
ATTACH;FMTTYPE=image/jpeg:https://gccb.com/wp-content/uploads/2025/12/image018-e1775457961251.jpg
END:VEVENT
BEGIN:VEVENT
DTSTART;TZID=Europe/Madrid:20260425T200000
DTEND;TZID=Europe/Madrid:20260425T233000
DTSTAMP:20260420T221209
CREATED:20260406T063541Z
LAST-MODIFIED:20260410T085325Z
UID:10006333-1777147200-1777159800@gccb.com
SUMMARY:MENÚ DEL CHEF ABRIL
DESCRIPTION:
URL:https://gccb.com/evento/menu-chef-abril-2/2026-04-25/
LOCATION:Gran Casino Costa Brava\, Av. Vila de Tossa\, 27-43\, Lloret del Mar\, Girona\, 17310\, España
CATEGORIES:Restauración,Shows
ATTACH;FMTTYPE=image/jpeg:https://gccb.com/wp-content/uploads/2026/03/Casino-Costa-Brava_Menu-ChefIG-Post-1080X1080-e1775457314191.jpeg
END:VEVENT
BEGIN:VEVENT
DTSTART;TZID=Europe/Madrid:20260501T180000
DTEND;TZID=Europe/Madrid:20260501T233000
DTSTAMP:20260420T221209
CREATED:20260406T065452Z
LAST-MODIFIED:20260406T065452Z
UID:10006437-1777658400-1777678200@gccb.com
SUMMARY:THE CLUB
DESCRIPTION:Compra tu entrada aquí
URL:https://gccb.com/evento/the-club-mayo/
LOCATION:Gran Casino Costa Brava\, Av. Vila de Tossa\, 27-43\, Lloret del Mar\, Girona\, 17310\, España
CATEGORIES:Poker
ATTACH;FMTTYPE=image/jpeg:https://gccb.com/wp-content/uploads/2025/12/image018-e1775457961251.jpg
END:VEVENT
BEGIN:VEVENT
DTSTART;TZID=Europe/Madrid:20260517T180000
DTEND;TZID=Europe/Madrid:20260517T233000
DTSTAMP:20260420T221209
CREATED:20260406T072559Z
LAST-MODIFIED:20260406T072630Z
UID:10006442-1779040800-1779060600@gccb.com
SUMMARY:DOMINICAL BOUNTY MAYO
DESCRIPTION:Compra tu entrada aquí
URL:https://gccb.com/evento/dominical-bounty-mayo-2/
LOCATION:Gran Casino Costa Brava\, Av. Vila de Tossa\, 27-43\, Lloret del Mar\, Girona\, 17310\, España
CATEGORIES:Poker
ATTACH;FMTTYPE=image/jpeg:https://gccb.com/wp-content/uploads/2026/04/MAYO-OKKK-e1775458337228.jpeg
END:VEVENT
BEGIN:VEVENT
DTSTART;TZID=Europe/Madrid:20260524T180000
DTEND;TZID=Europe/Madrid:20260524T233000
DTSTAMP:20260420T221209
CREATED:20260406T071755Z
LAST-MODIFIED:20260406T071920Z
UID:10006438-1779645600-1779665400@gccb.com
SUMMARY:EL DOMINICAL MAYO
DESCRIPTION:Compra tu entrada aquí \n 
URL:https://gccb.com/evento/el-dominical-mayo/
LOCATION:Gran Casino Costa Brava\, Av. Vila de Tossa\, 27-43\, Lloret del Mar\, Girona\, 17310\, España
CATEGORIES:Poker
ATTACH;FMTTYPE=image/jpeg:https://gccb.com/wp-content/uploads/2026/04/MAYO-OKKK-e1775458337228.jpeg
END:VEVENT
BEGIN:VEVENT
DTSTART;TZID=Europe/Madrid:20260531T180000
DTEND;TZID=Europe/Madrid:20260531T233000
DTSTAMP:20260420T221209
CREATED:20260406T072214Z
LAST-MODIFIED:20260406T072214Z
UID:10006443-1780250400-1780270200@gccb.com
SUMMARY:DOMINICAL BOUNTY MAYO
DESCRIPTION:
URL:https://gccb.com/evento/dominical-bounty-mayo/2026-05-31/
LOCATION:Gran Casino Costa Brava\, Av. Vila de Tossa\, 27-43\, Lloret del Mar\, Girona\, 17310\, España
CATEGORIES:Poker
ATTACH;FMTTYPE=image/jpeg:https://gccb.com/wp-content/uploads/2026/04/MAYO-OKKK-e1775458337228.jpeg
END:VEVENT
END:VCALENDAR