BEGIN:VCALENDAR
VERSION:2.0
PRODID:-//Gran Casino Costa Brava - ECPv6.15.19//NONSGML v1.0//EN
CALSCALE:GREGORIAN
METHOD:PUBLISH
X-ORIGINAL-URL:https://gccb.com
X-WR-CALDESC:Eventos para Gran Casino Costa Brava
REFRESH-INTERVAL;VALUE=DURATION:PT1H
X-Robots-Tag:noindex
X-PUBLISHED-TTL:PT1H
BEGIN:VTIMEZONE
TZID:Europe/Madrid
BEGIN:DAYLIGHT
TZOFFSETFROM:+0100
TZOFFSETTO:+0200
TZNAME:CEST
DTSTART:20250330T010000
END:DAYLIGHT
BEGIN:STANDARD
TZOFFSETFROM:+0200
TZOFFSETTO:+0100
TZNAME:CET
DTSTART:20251026T010000
END:STANDARD
BEGIN:DAYLIGHT
TZOFFSETFROM:+0100
TZOFFSETTO:+0200
TZNAME:CEST
DTSTART:20260329T010000
END:DAYLIGHT
BEGIN:STANDARD
TZOFFSETFROM:+0200
TZOFFSETTO:+0100
TZNAME:CET
DTSTART:20261025T010000
END:STANDARD
BEGIN:DAYLIGHT
TZOFFSETFROM:+0100
TZOFFSETTO:+0200
TZNAME:CEST
DTSTART:20270328T010000
END:DAYLIGHT
BEGIN:STANDARD
TZOFFSETFROM:+0200
TZOFFSETTO:+0100
TZNAME:CET
DTSTART:20271031T010000
END:STANDARD
END:VTIMEZONE
BEGIN:VEVENT
DTSTART;VALUE=DATE:20260223
DTEND;VALUE=DATE:20260226
DTSTAMP:20260425T200541
CREATED:20260223T073744Z
LAST-MODIFIED:20260223T073744Z
UID:10006287-1771804800-1772063999@gccb.com
SUMMARY:CATA SLOTS KONAMI
DESCRIPTION:
URL:https://gccb.com/evento/cata-slots-konami/
CATEGORIES:CWC
ATTACH;FMTTYPE=image/jpeg:https://gccb.com/wp-content/uploads/2026/02/Casino-Costa-Brava_Nuevas-slots_CW_IG-Post-1080X1080-e1771832219225.jpeg
END:VEVENT
BEGIN:VEVENT
DTSTART;TZID=Europe/Madrid:20260224T190000
DTEND;TZID=Europe/Madrid:20260224T233000
DTSTAMP:20260425T200541
CREATED:20260216T184322Z
LAST-MODIFIED:20260216T184322Z
UID:10006285-1771959600-1771975800@gccb.com
SUMMARY:BUFFET AÑO NUEVO CHINO
DESCRIPTION:
URL:https://gccb.com/evento/buffet-ano-nuevo-chino/
CATEGORIES:CWC,Shows
ATTACH;FMTTYPE=image/jpeg:https://gccb.com/wp-content/uploads/2026/01/Casino-Costa-Brava_Ano-Nuevo-Chino_IG-Post-1080X1080.jpeg
END:VEVENT
BEGIN:VEVENT
DTSTART;TZID=Europe/Madrid:20260225T200000
DTEND;TZID=Europe/Madrid:20260225T235900
DTSTAMP:20260425T200541
CREATED:20260216T184551Z
LAST-MODIFIED:20260216T184551Z
UID:10006286-1772049600-1772063940@gccb.com
SUMMARY:TORNEO SLOTS 2026
DESCRIPTION:  \n 
URL:https://gccb.com/evento/torneo-slots-2026/
LOCATION:Gran Casino Costa Brava\, Av. Vila de Tossa\, 27-43\, Lloret del Mar\, Girona\, 17310\, España
CATEGORIES:CWC,Shows
ATTACH;FMTTYPE=image/jpeg:https://gccb.com/wp-content/uploads/2026/01/Casino-Costa-Brava_Torneo_CW_IG-Post-1080X1080.jpeg
END:VEVENT
BEGIN:VEVENT
DTSTART;TZID=Europe/Madrid:20260227T200000
DTEND;TZID=Europe/Madrid:20260227T233000
DTSTAMP:20260425T200541
CREATED:20260201T200448Z
LAST-MODIFIED:20260201T201512Z
UID:10005909-1772222400-1772235000@gccb.com
SUMMARY:MENÚ DEL CHEF FEBRERO
DESCRIPTION:  \nReserva tu mesa aquí
URL:https://gccb.com/evento/menu-del-chef-febrero/2026-02-27/
CATEGORIES:Restauración,Shows
ATTACH;FMTTYPE=image/png:https://gccb.com/wp-content/uploads/2026/02/Menu-febrero-1.png
END:VEVENT
BEGIN:VEVENT
DTSTART;TZID=Europe/Madrid:20260228T180000
DTEND;TZID=Europe/Madrid:20260228T233000
DTSTAMP:20260425T200541
CREATED:20251229T081143Z
LAST-MODIFIED:20251229T090113Z
UID:10005762-1772301600-1772321400@gccb.com
SUMMARY:THE CLUB 2026
DESCRIPTION:Día: Sábado \nHora: 18:00h \nBuyin: 100€ \nPuntos iniciales: 30.000 \nNiveles de registro: 10 \nNiveles: 20/15 minutos desde el nivel 13 \nEntrada a El Mensual para el ganador \n5.000 puntos por puntualidad (primer nivel)
URL:https://gccb.com/evento/the-club-2026/2026-02-28/
LOCATION:Gran Casino Costa Brava\, Av. Vila de Tossa\, 27-43\, Lloret del Mar\, Girona\, 17310\, España
CATEGORIES:Poker
ATTACH;FMTTYPE=image/jpeg:https://gccb.com/wp-content/uploads/2025/12/Torneos_GCCB_2026-03-e1767381454249.jpg
END:VEVENT
BEGIN:VEVENT
DTSTART;TZID=Europe/Madrid:20260228T200000
DTEND;TZID=Europe/Madrid:20260228T233000
DTSTAMP:20260425T200541
CREATED:20251216T100112Z
LAST-MODIFIED:20260102T191022Z
UID:10005739-1772308800-1772321400@gccb.com
SUMMARY:VIAJE CON NOSOTROS - COMANDANTE LARA
DESCRIPTION:Compra tus entradas aquí desde 26€. \n  \nO contrata tu Pack No va más Comandante Lara por 43€ aquí. \n \n 
URL:https://gccb.com/evento/viaje-con-nosotros-comandante-lara/
LOCATION:Gran Casino Costa Brava\, Av. Vila de Tossa\, 27-43\, Lloret del Mar\, Girona\, 17310\, España
CATEGORIES:Shows
ATTACH;FMTTYPE=image/jpeg:https://gccb.com/wp-content/uploads/2025/12/2802_COMANDANTE-LARA_CICLO-COMEDIA-e1767381005886.jpg
END:VEVENT
BEGIN:VEVENT
DTSTART;TZID=Europe/Madrid:20260228T200000
DTEND;TZID=Europe/Madrid:20260228T233000
DTSTAMP:20260425T200541
CREATED:20260201T200448Z
LAST-MODIFIED:20260201T201512Z
UID:10005910-1772308800-1772321400@gccb.com
SUMMARY:MENÚ DEL CHEF FEBRERO
DESCRIPTION:  \nReserva tu mesa aquí
URL:https://gccb.com/evento/menu-del-chef-febrero/2026-02-28/
CATEGORIES:Restauración,Shows
ATTACH;FMTTYPE=image/png:https://gccb.com/wp-content/uploads/2026/02/Menu-febrero-1.png
END:VEVENT
BEGIN:VEVENT
DTSTART;TZID=Europe/Madrid:20260301T180000
DTEND;TZID=Europe/Madrid:20260301T233000
DTSTAMP:20260425T200541
CREATED:20251229T085315Z
LAST-MODIFIED:20251229T085916Z
UID:10005777-1772388000-1772407800@gccb.com
SUMMARY:DOMINICAL BOUNTY 2026
DESCRIPTION:Día: Domingo \nHora: 18:00h \nBuyin: 100€ (25€ bounty) \nPuntos iniciales: 20.000 \nNiveles de registro: 10 \nNiveles: 20/15 minutos desde el nivel 13 \n5.000 puntos por puntualidad (primer nivel)
URL:https://gccb.com/evento/dominical-bounty-2026/2026-03-01/
LOCATION:Gran Casino Costa Brava\, Av. Vila de Tossa\, 27-43\, Lloret del Mar\, Girona\, 17310\, España
CATEGORIES:Poker
ATTACH;FMTTYPE=image/jpeg:https://gccb.com/wp-content/uploads/2025/12/Torneos_GCCB_2026-03-e1767381454249.jpg
END:VEVENT
END:VCALENDAR